BEGIN:VCALENDAR
VERSION:2.0
PRODID:-//Tag der Restaurierung - ECPv6.15.20//NONSGML v1.0//EN
CALSCALE:GREGORIAN
METHOD:PUBLISH
X-ORIGINAL-URL:https://www.tag-der-restaurierung.de
X-WR-CALDESC:Veranstaltungen für Tag der Restaurierung
REFRESH-INTERVAL;VALUE=DURATION:PT1H
X-Robots-Tag:noindex
X-PUBLISHED-TTL:PT1H
BEGIN:VTIMEZONE
TZID:Europe/Berlin
BEGIN:DAYLIGHT
TZOFFSETFROM:+0100
TZOFFSETTO:+0200
TZNAME:CEST
DTSTART:20240331T010000
END:DAYLIGHT
BEGIN:STANDARD
TZOFFSETFROM:+0200
TZOFFSETTO:+0100
TZNAME:CET
DTSTART:20241027T010000
END:STANDARD
BEGIN:DAYLIGHT
TZOFFSETFROM:+0100
TZOFFSETTO:+0200
TZNAME:CEST
DTSTART:20250330T010000
END:DAYLIGHT
BEGIN:STANDARD
TZOFFSETFROM:+0200
TZOFFSETTO:+0100
TZNAME:CET
DTSTART:20251026T010000
END:STANDARD
BEGIN:DAYLIGHT
TZOFFSETFROM:+0100
TZOFFSETTO:+0200
TZNAME:CEST
DTSTART:20260329T010000
END:DAYLIGHT
BEGIN:STANDARD
TZOFFSETFROM:+0200
TZOFFSETTO:+0100
TZNAME:CET
DTSTART:20261025T010000
END:STANDARD
END:VTIMEZONE
BEGIN:VEVENT
DTSTART;TZID=Europe/Berlin:20251019T110000
DTEND;TZID=Europe/Berlin:20251019T170000
DTSTAMP:20260421T161140
CREATED:20250828T092014Z
LAST-MODIFIED:20251008T105714Z
UID:10001662-1760871600-1760893200@www.tag-der-restaurierung.de
SUMMARY:Restaurierung kann man studieren!
DESCRIPTION:Die ABK Stuttgart bietet fünf Studiengänge im Bereich der Konservierungswissenschaft an und stellt diese fünf Bereiche am Tag der Restaurierung im Stadtpalais Stuttgart vor. Unser mobiles Kulturgut-Lab zeigt Besucher*innen wie wir Kunstwerke und Kulturgut untersuchen\, Konzepte erstellen und Methoden entwickeln um die Objekte zu erhalten\, die unser kulturelles Erbe ausmachen: vom Gemälde bis zum Gameboy. An den originalen Objekten und am Infoscreen bringen wir Ihnen den Beruf von Restaurator*innen näher und gerne können Sie einen Blick durchs Mikroskop werfen und erfahren wie unterschiedlich einzelne Materialien aufgebaut sind.
URL:https://www.tag-der-restaurierung.de/veranstaltung/restaurierung-kann-man-studieren/
LOCATION:Stadtpalais Stuttgart\, Konrad-Adenauer-Straße 2\, Stuttgart\, Baden-Württemberg\, 70173\, Germany
CATEGORIES:Ausstellung
ATTACH;FMTTYPE=image/jpeg:https://www.tag-der-restaurierung.de/wp-content/uploads/2025/08/Wissenschaftsfestival_02.jpg
END:VEVENT
END:VCALENDAR