BEGIN:VCALENDAR
VERSION:2.0
PRODID:-//Tag der Restaurierung - ECPv6.15.20//NONSGML v1.0//EN
CALSCALE:GREGORIAN
METHOD:PUBLISH
X-ORIGINAL-URL:https://www.tag-der-restaurierung.de
X-WR-CALDESC:Veranstaltungen für Tag der Restaurierung
REFRESH-INTERVAL;VALUE=DURATION:PT1H
X-Robots-Tag:noindex
X-PUBLISHED-TTL:PT1H
BEGIN:VTIMEZONE
TZID:Europe/Berlin
BEGIN:DAYLIGHT
TZOFFSETFROM:+0100
TZOFFSETTO:+0200
TZNAME:CEST
DTSTART:20240331T010000
END:DAYLIGHT
BEGIN:STANDARD
TZOFFSETFROM:+0200
TZOFFSETTO:+0100
TZNAME:CET
DTSTART:20241027T010000
END:STANDARD
BEGIN:DAYLIGHT
TZOFFSETFROM:+0100
TZOFFSETTO:+0200
TZNAME:CEST
DTSTART:20250330T010000
END:DAYLIGHT
BEGIN:STANDARD
TZOFFSETFROM:+0200
TZOFFSETTO:+0100
TZNAME:CET
DTSTART:20251026T010000
END:STANDARD
BEGIN:DAYLIGHT
TZOFFSETFROM:+0100
TZOFFSETTO:+0200
TZNAME:CEST
DTSTART:20260329T010000
END:DAYLIGHT
BEGIN:STANDARD
TZOFFSETFROM:+0200
TZOFFSETTO:+0100
TZNAME:CET
DTSTART:20261025T010000
END:STANDARD
END:VTIMEZONE
BEGIN:VEVENT
DTSTART;TZID=Europe/Berlin:20251019T130000
DTEND;TZID=Europe/Berlin:20251019T140000
DTSTAMP:20260425T171636
CREATED:20251003T113933Z
LAST-MODIFIED:20251014T062704Z
UID:10001758-1760878800-1760882400@www.tag-der-restaurierung.de
SUMMARY:Führung durch das Sammlungszentrum
DESCRIPTION:Sammlungskuratorin Ulrike Konrad und Restauratorin Valeria Scholz laden zu einer Führung durch das Sammlungszentrum des Dreiländermuseums ein. \nDie beiden Expertinnen gewähren einen Einblick in die verschiedenen Aspekte der Restaurierung und Konservierung von Kulturgütern. Dabei berichten sie über die Herausforderungen und Beweggründe hinter der sorgfältigen Pflege und Bewahrung von Objekten\, die einen wichtigen Teil unserer Geschichte darstellen. Die Teilnehmenden erfahren beim Rundgang\, wie das kulturelle Erbe für kommende Generationen gesichert wird. \nMaximale Teilnehmerzahl: 20 Personen pro Führung\, Teilnahme kostenlos\, Anmeldung erforderlich per E-Mail: museum@loerrach.de oder telefonisch: +49 7621 415 150 \n  \nBildnachweis: Valeria Scholz bei Restaurierungsmaßnahmen im Sammlungszentrum des Dreiländermuseums Lörrach.\nFoto: ©Dreiländermuseum / Foto: Arne Gentzsch
URL:https://www.tag-der-restaurierung.de/veranstaltung/fuehrung-durch-das-sammlungszentrum/2025-10-19/2/
LOCATION:Sammlungszentrum des Dreiländermuseums\, Johann-Reiss-Straße 22\, Lörrach-Brombach\, Baden-Württemberg\, 79541\, Germany
CATEGORIES:Führung
ATTACH;FMTTYPE=image/jpeg:https://www.tag-der-restaurierung.de/wp-content/uploads/2025/10/c_Dreilaendermuseum_foto_Arne_Gentzsch.jpg
END:VEVENT
BEGIN:VEVENT
DTSTART;TZID=Europe/Berlin:20251019T110000
DTEND;TZID=Europe/Berlin:20251019T120000
DTSTAMP:20260425T171636
CREATED:20251003T113933Z
LAST-MODIFIED:20251014T062704Z
UID:10001757-1760871600-1760875200@www.tag-der-restaurierung.de
SUMMARY:Führung durch das Sammlungszentrum
DESCRIPTION:Sammlungskuratorin Ulrike Konrad und Restauratorin Valeria Scholz laden zu einer Führung durch das Sammlungszentrum des Dreiländermuseums ein. \nDie beiden Expertinnen gewähren einen Einblick in die verschiedenen Aspekte der Restaurierung und Konservierung von Kulturgütern. Dabei berichten sie über die Herausforderungen und Beweggründe hinter der sorgfältigen Pflege und Bewahrung von Objekten\, die einen wichtigen Teil unserer Geschichte darstellen. Die Teilnehmenden erfahren beim Rundgang\, wie das kulturelle Erbe für kommende Generationen gesichert wird. \nMaximale Teilnehmerzahl: 20 Personen pro Führung\, Teilnahme kostenlos\, Anmeldung erforderlich per E-Mail: museum@loerrach.de oder telefonisch: +49 7621 415 150 \n  \nBildnachweis: Valeria Scholz bei Restaurierungsmaßnahmen im Sammlungszentrum des Dreiländermuseums Lörrach.\nFoto: ©Dreiländermuseum / Foto: Arne Gentzsch
URL:https://www.tag-der-restaurierung.de/veranstaltung/fuehrung-durch-das-sammlungszentrum/2025-10-19/1/
LOCATION:Sammlungszentrum des Dreiländermuseums\, Johann-Reiss-Straße 22\, Lörrach-Brombach\, Baden-Württemberg\, 79541\, Germany
CATEGORIES:Führung
ATTACH;FMTTYPE=image/jpeg:https://www.tag-der-restaurierung.de/wp-content/uploads/2025/10/c_Dreilaendermuseum_foto_Arne_Gentzsch.jpg
END:VEVENT
END:VCALENDAR