BEGIN:VCALENDAR
VERSION:2.0
PRODID:-//Tag der Restaurierung - ECPv6.15.20//NONSGML v1.0//EN
CALSCALE:GREGORIAN
METHOD:PUBLISH
X-ORIGINAL-URL:https://www.tag-der-restaurierung.de
X-WR-CALDESC:Veranstaltungen für Tag der Restaurierung
REFRESH-INTERVAL;VALUE=DURATION:PT1H
X-Robots-Tag:noindex
X-PUBLISHED-TTL:PT1H
BEGIN:VTIMEZONE
TZID:Europe/Berlin
BEGIN:DAYLIGHT
TZOFFSETFROM:+0100
TZOFFSETTO:+0200
TZNAME:CEST
DTSTART:20240331T010000
END:DAYLIGHT
BEGIN:STANDARD
TZOFFSETFROM:+0200
TZOFFSETTO:+0100
TZNAME:CET
DTSTART:20241027T010000
END:STANDARD
BEGIN:DAYLIGHT
TZOFFSETFROM:+0100
TZOFFSETTO:+0200
TZNAME:CEST
DTSTART:20250330T010000
END:DAYLIGHT
BEGIN:STANDARD
TZOFFSETFROM:+0200
TZOFFSETTO:+0100
TZNAME:CET
DTSTART:20251026T010000
END:STANDARD
BEGIN:DAYLIGHT
TZOFFSETFROM:+0100
TZOFFSETTO:+0200
TZNAME:CEST
DTSTART:20260329T010000
END:DAYLIGHT
BEGIN:STANDARD
TZOFFSETFROM:+0200
TZOFFSETTO:+0100
TZNAME:CET
DTSTART:20261025T010000
END:STANDARD
END:VTIMEZONE
BEGIN:VEVENT
DTSTART;TZID=Europe/Berlin:20251019T130000
DTEND;TZID=Europe/Berlin:20251019T140000
DTSTAMP:20260425T153437
CREATED:20251008T114834Z
LAST-MODIFIED:20251008T114910Z
UID:10001781-1760878800-1760882400@www.tag-der-restaurierung.de
SUMMARY:„Lebende Bücher“ – Ziehbilderbücher und Pop-up-Bücher
DESCRIPTION:Die Restauratorin des Gutenberg-Museums\, Dorothea Müller\, präsentiert „Lebende Bücher“ – Ziehbilderbücher und Pop-up-Bücher aus der Sammlung des Museums. Sie gibt dabei Einblick in die Funktionsweise und die Restaurierung dieser außergewöhnlichen Bücher.
URL:https://www.tag-der-restaurierung.de/veranstaltung/lebende-buecher-ziehbilderbuecher-und-pop-up-buecher/2025-10-19/2/
LOCATION:Gutenberg-Museum MOVED\, Reichklarastraße 1\, Mainz\, Rheinland-Pfalz\, 55116\, Germany
CATEGORIES:Vorführung
ATTACH;FMTTYPE=image/jpeg:https://www.tag-der-restaurierung.de/wp-content/uploads/2025/10/Kaspuhl_Restaurierung.jpg
ORGANIZER;CN="Gutenberg-Museum":MAILTO:gutenberg-museum@stadt.mainz.de
END:VEVENT
BEGIN:VEVENT
DTSTART;TZID=Europe/Berlin:20251019T110000
DTEND;TZID=Europe/Berlin:20251019T120000
DTSTAMP:20260425T153437
CREATED:20251008T114834Z
LAST-MODIFIED:20251008T114910Z
UID:10001780-1760871600-1760875200@www.tag-der-restaurierung.de
SUMMARY:„Lebende Bücher“ – Ziehbilderbücher und Pop-up-Bücher
DESCRIPTION:Die Restauratorin des Gutenberg-Museums\, Dorothea Müller\, präsentiert „Lebende Bücher“ – Ziehbilderbücher und Pop-up-Bücher aus der Sammlung des Museums. Sie gibt dabei Einblick in die Funktionsweise und die Restaurierung dieser außergewöhnlichen Bücher.
URL:https://www.tag-der-restaurierung.de/veranstaltung/lebende-buecher-ziehbilderbuecher-und-pop-up-buecher/2025-10-19/1/
LOCATION:Gutenberg-Museum MOVED\, Reichklarastraße 1\, Mainz\, Rheinland-Pfalz\, 55116\, Germany
CATEGORIES:Vorführung
ATTACH;FMTTYPE=image/jpeg:https://www.tag-der-restaurierung.de/wp-content/uploads/2025/10/Kaspuhl_Restaurierung.jpg
ORGANIZER;CN="Gutenberg-Museum":MAILTO:gutenberg-museum@stadt.mainz.de
END:VEVENT
END:VCALENDAR