BEGIN:VCALENDAR
VERSION:2.0
PRODID:-//Tag der Restaurierung - ECPv6.15.20//NONSGML v1.0//EN
CALSCALE:GREGORIAN
METHOD:PUBLISH
X-ORIGINAL-URL:https://www.tag-der-restaurierung.de
X-WR-CALDESC:Veranstaltungen für Tag der Restaurierung
REFRESH-INTERVAL;VALUE=DURATION:PT1H
X-Robots-Tag:noindex
X-PUBLISHED-TTL:PT1H
BEGIN:VTIMEZONE
TZID:Europe/Berlin
BEGIN:DAYLIGHT
TZOFFSETFROM:+0100
TZOFFSETTO:+0200
TZNAME:CEST
DTSTART:20240331T010000
END:DAYLIGHT
BEGIN:STANDARD
TZOFFSETFROM:+0200
TZOFFSETTO:+0100
TZNAME:CET
DTSTART:20241027T010000
END:STANDARD
BEGIN:DAYLIGHT
TZOFFSETFROM:+0100
TZOFFSETTO:+0200
TZNAME:CEST
DTSTART:20250330T010000
END:DAYLIGHT
BEGIN:STANDARD
TZOFFSETFROM:+0200
TZOFFSETTO:+0100
TZNAME:CET
DTSTART:20251026T010000
END:STANDARD
BEGIN:DAYLIGHT
TZOFFSETFROM:+0100
TZOFFSETTO:+0200
TZNAME:CEST
DTSTART:20260329T010000
END:DAYLIGHT
BEGIN:STANDARD
TZOFFSETFROM:+0200
TZOFFSETTO:+0100
TZNAME:CET
DTSTART:20261025T010000
END:STANDARD
END:VTIMEZONE
BEGIN:VEVENT
DTSTART;TZID=Europe/Berlin:20251019T120000
DTEND;TZID=Europe/Berlin:20251019T190000
DTSTAMP:20260426T044155
CREATED:20251016T000315Z
LAST-MODIFIED:20251016T104828Z
UID:10001796-1760875200-1760900400@www.tag-der-restaurierung.de
SUMMARY:Tag der offenen Tür – von Dingen\, die uns bewegen und die wir bewahren
DESCRIPTION:von 12:00 bis 18:00 Uhr      Werkstatt geöffnet\,                    \nvon 14:00 bis 16:30 Uhr       Musik + Vorträge. \nWir berichten von Dingen\, die uns berühren \nvom Altar über Einbauküchen bis zum Traumschiff\,  \nvon der Wissenschaft und Praxis ihrer Restaurierung\, von Handwerk und Analytik. \nWir\, das sind Anabel Fuchs\, Nicole Herzog\,  Lina Horstmann\, Eberhard Roller und Leon Tettke. \nZu jedem Kunstwerk oder Möbel tragen vier Musiker:innen passende Musik aus deren Enstehungszeit vor. \nDas Experiment: \nOb im Zusammenspiel von Auge und Ohr die Atmosphäre einer Epoche wieder erlebbar wird? \n  \nBildnachweis: SeaCloud Galionsfigur\, Eberhard Roller
URL:https://www.tag-der-restaurierung.de/veranstaltung/eberswalde/
LOCATION:Akanthus Restaurierungen\, Coppistrasse 3\, Haus 17 und 18 im "Rofin-Gewerbepark"\, Eberswalde - Finow\, Brandenburg\, 16227\, Germany
CATEGORIES:Tag der offenen Tür,Vorführung,Vortrag
ATTACH;FMTTYPE=image/jpeg:https://www.tag-der-restaurierung.de/wp-content/uploads/2025/10/241113-Gran-Canaria-Totale-VZ.jpg
ORGANIZER;CN="akanthus Restaurierungen%2C Eberhard Roller %E2%80%93 M%C3%B6bel%2C Holzobjekte%2C Denkmalpflege seit 1982 %E2%80%93":MAILTO:akanthus-restaurierungen@gmx.de
GEO:52.84181;13.76724
X-APPLE-STRUCTURED-LOCATION;VALUE=URI;X-ADDRESS=Akanthus Restaurierungen Coppistrasse 3 Haus 17 und 18 im "Rofin-Gewerbepark" Eberswalde - Finow Brandenburg 16227 Germany;X-APPLE-RADIUS=500;X-TITLE=Coppistrasse 3\, Haus 17 und 18 im "Rofin-Gewerbepark":geo:13.76724,52.84181
END:VEVENT
END:VCALENDAR