BEGIN:VCALENDAR
VERSION:2.0
PRODID:-//Tag der Restaurierung - ECPv6.15.20//NONSGML v1.0//EN
CALSCALE:GREGORIAN
METHOD:PUBLISH
X-ORIGINAL-URL:https://www.tag-der-restaurierung.de
X-WR-CALDESC:Veranstaltungen für Tag der Restaurierung
REFRESH-INTERVAL;VALUE=DURATION:PT1H
X-Robots-Tag:noindex
X-PUBLISHED-TTL:PT1H
BEGIN:VTIMEZONE
TZID:Europe/Berlin
BEGIN:DAYLIGHT
TZOFFSETFROM:+0100
TZOFFSETTO:+0200
TZNAME:CEST
DTSTART:20240331T010000
END:DAYLIGHT
BEGIN:STANDARD
TZOFFSETFROM:+0200
TZOFFSETTO:+0100
TZNAME:CET
DTSTART:20241027T010000
END:STANDARD
BEGIN:DAYLIGHT
TZOFFSETFROM:+0100
TZOFFSETTO:+0200
TZNAME:CEST
DTSTART:20250330T010000
END:DAYLIGHT
BEGIN:STANDARD
TZOFFSETFROM:+0200
TZOFFSETTO:+0100
TZNAME:CET
DTSTART:20251026T010000
END:STANDARD
BEGIN:DAYLIGHT
TZOFFSETFROM:+0100
TZOFFSETTO:+0200
TZNAME:CEST
DTSTART:20260329T010000
END:DAYLIGHT
BEGIN:STANDARD
TZOFFSETFROM:+0200
TZOFFSETTO:+0100
TZNAME:CET
DTSTART:20261025T010000
END:STANDARD
END:VTIMEZONE
BEGIN:VEVENT
DTSTART;TZID=Europe/Berlin:20251019T100000
DTEND;TZID=Europe/Berlin:20251019T140000
DTSTAMP:20260425T171814
CREATED:20250826T125825Z
LAST-MODIFIED:20251008T082311Z
UID:10001657-1760868000-1760882400@www.tag-der-restaurierung.de
SUMMARY:Punkt\, Punkt\, Komma\, Strich. Fertig ist die … Retusche?
DESCRIPTION:Ein Workshop zur Technik der Retusche  \nUnsere Restauratorin Melanie Schönherr M.A. lädt euch ein gemeinsam mit ihr in die Welt der Konservierung und Restaurierung abzutauchen und bietet euch einen Workshop mit wissenswerten Informationen und praktischen Beispielen. \n\nWie werden Fehlstellen im Original farblich angepasst?\n\nWelche Techniken gibt es?\n\n\nWas sind die Schwierigkeiten und warum sollte man sich überhaupt die Mühe machen?\n\nWie funktioniert das?\n\n\n\nProbiert euch selbst an praktischen Beispielen und lernt die Tricks und Kniffe der unterschiedlichen Techniken rund um die Retusche kennen. Ob Bilder in Graustufen mit Bleistift oder farbige Beispiele mit Bunt- oder Filzstift – ihr entscheidet über den Schwierigkeitsgrad und wählt euch eure Fehlstelle aus. Wer sich traut\, kann sogar sein künstlerisches Geschick mit Farbe und Pinsel versuchen und in den Wettbewerb mit den Profis treten. \nNach getaner Arbeit und erfolgreicher Vervollständigung des Bildes sowie guten Gesprächen rund um die Welt der Kunst und Kultur\, könnt ihr euer Meisterwerk stolz mit nach Hause nehmen. \nWir laden euch recht herzlich ein ! \n  \nWo ?          Stadtmuseum Wetzlar\, Empore \nWann ?      10.00 – 14.00 Uhr \n  \nDie Veranstaltung ist kostenlos und eine Anmeldung ist nicht erforderlich. Die Veranstaltung wird empfohlen ab 12 Jahre und älter.
URL:https://www.tag-der-restaurierung.de/veranstaltung/punkt-punkt-komma-strich-fertig-ist-die-retusche/
LOCATION:Städtische Museen Wetzlar\, Lottestraße 8-10\, Wetzlar\, Hessen\, 35578\, Germany
CATEGORIES:Mitmachen,Tag der offenen Tür,Vorführung
ATTACH;FMTTYPE=image/jpeg:https://www.tag-der-restaurierung.de/wp-content/uploads/2025/08/20250826_124456.jpg
ORGANIZER;CN="St%C3%A4dtiche Museen Wetzlar":MAILTO:museum@wetzlar.de
END:VEVENT
END:VCALENDAR