BEGIN:VCALENDAR
VERSION:2.0
PRODID:-//Tag der Restaurierung - ECPv6.15.20//NONSGML v1.0//EN
CALSCALE:GREGORIAN
METHOD:PUBLISH
X-ORIGINAL-URL:https://www.tag-der-restaurierung.de
X-WR-CALDESC:Veranstaltungen für Tag der Restaurierung
REFRESH-INTERVAL;VALUE=DURATION:PT1H
X-Robots-Tag:noindex
X-PUBLISHED-TTL:PT1H
BEGIN:VTIMEZONE
TZID:Europe/Berlin
BEGIN:DAYLIGHT
TZOFFSETFROM:+0100
TZOFFSETTO:+0200
TZNAME:CEST
DTSTART:20240331T010000
END:DAYLIGHT
BEGIN:STANDARD
TZOFFSETFROM:+0200
TZOFFSETTO:+0100
TZNAME:CET
DTSTART:20241027T010000
END:STANDARD
BEGIN:DAYLIGHT
TZOFFSETFROM:+0100
TZOFFSETTO:+0200
TZNAME:CEST
DTSTART:20250330T010000
END:DAYLIGHT
BEGIN:STANDARD
TZOFFSETFROM:+0200
TZOFFSETTO:+0100
TZNAME:CET
DTSTART:20251026T010000
END:STANDARD
BEGIN:DAYLIGHT
TZOFFSETFROM:+0100
TZOFFSETTO:+0200
TZNAME:CEST
DTSTART:20260329T010000
END:DAYLIGHT
BEGIN:STANDARD
TZOFFSETFROM:+0200
TZOFFSETTO:+0100
TZNAME:CET
DTSTART:20261025T010000
END:STANDARD
END:VTIMEZONE
BEGIN:VEVENT
DTSTART;TZID=Europe/Berlin:20251019T110000
DTEND;TZID=Europe/Berlin:20251019T160000
DTSTAMP:20260425T171435
CREATED:20250829T133132Z
LAST-MODIFIED:20251008T102355Z
UID:10001664-1760871600-1760889600@www.tag-der-restaurierung.de
SUMMARY:Antike Bilderrahmen: Restaurierung von vergoldeten Oberflächen
DESCRIPTION:Vergoldungen antiker Bilderrahmen des 18. und 19.Jahrhunderts sind häufig beschädigt oder überstrichen.  \nWir versuchen unter größtmöglicher Erhaltung der alten Oberflächen und Altersspuren den authentischen Originalzustand zu sichern. \nPatina und Altersspuren sehen wir als Zeugnisse der bewegten Geschichte vieler historischer Objekte.  \nAn ausgewählten Objekten aus unserer Sammlung zeigen wir Methoden und Vorgehen zur Erhaltung originaler Rahmenvergoldungen. \nVeranstaltungsort:\nWerkstatt für Antike Bilderrahmen – Martin Dickel\nWarnstedtstr.8\, Werkstattgebäude 1.Etage\, 22525 Hamburg Stellingen
URL:https://www.tag-der-restaurierung.de/veranstaltung/antike-bilderrahmen-restaurierung-von-vergoldeten-oberflaechen/
LOCATION:Werkstatt für Antike Bilderrahmen – Martin Dickel\, Warnstedtstr.8\, Werkstattgebäude 1.Etage\, Hamburg\, 22525\, Germany
CATEGORIES:Ausstellung,Führung,Tag der offenen Tür,Vorführung
ATTACH;FMTTYPE=image/jpeg:https://www.tag-der-restaurierung.de/wp-content/uploads/2025/08/Polimentvergoldung-19.Jh_.jpg
ORGANIZER;CN="Werkstatt f%C3%BCr Antike Bilderrahmen - Martin Dickel":MAILTO:dickel-bilderrahmen@t-online.de
GEO:53.5825099;9.9301378
X-APPLE-STRUCTURED-LOCATION;VALUE=URI;X-ADDRESS=Werkstatt für Antike Bilderrahmen – Martin Dickel Warnstedtstr.8 Werkstattgebäude 1.Etage Hamburg 22525 Germany;X-APPLE-RADIUS=500;X-TITLE=Warnstedtstr.8\, Werkstattgebäude 1.Etage:geo:9.9301378,53.5825099
END:VEVENT
END:VCALENDAR