BEGIN:VCALENDAR
VERSION:2.0
PRODID:-//Tag der Restaurierung - ECPv6.15.20//NONSGML v1.0//EN
CALSCALE:GREGORIAN
METHOD:PUBLISH
X-WR-CALNAME:Tag der Restaurierung
X-ORIGINAL-URL:https://www.tag-der-restaurierung.de
X-WR-CALDESC:Veranstaltungen für Tag der Restaurierung
REFRESH-INTERVAL;VALUE=DURATION:PT1H
X-Robots-Tag:noindex
X-PUBLISHED-TTL:PT1H
BEGIN:VTIMEZONE
TZID:Europe/Berlin
BEGIN:DAYLIGHT
TZOFFSETFROM:+0100
TZOFFSETTO:+0200
TZNAME:CEST
DTSTART:20240331T010000
END:DAYLIGHT
BEGIN:STANDARD
TZOFFSETFROM:+0200
TZOFFSETTO:+0100
TZNAME:CET
DTSTART:20241027T010000
END:STANDARD
BEGIN:DAYLIGHT
TZOFFSETFROM:+0100
TZOFFSETTO:+0200
TZNAME:CEST
DTSTART:20250330T010000
END:DAYLIGHT
BEGIN:STANDARD
TZOFFSETFROM:+0200
TZOFFSETTO:+0100
TZNAME:CET
DTSTART:20251026T010000
END:STANDARD
BEGIN:DAYLIGHT
TZOFFSETFROM:+0100
TZOFFSETTO:+0200
TZNAME:CEST
DTSTART:20260329T010000
END:DAYLIGHT
BEGIN:STANDARD
TZOFFSETFROM:+0200
TZOFFSETTO:+0100
TZNAME:CET
DTSTART:20261025T010000
END:STANDARD
END:VTIMEZONE
BEGIN:VEVENT
DTSTART;TZID=Europe/Berlin:20251019T110000
DTEND;TZID=Europe/Berlin:20251019T160000
DTSTAMP:20260422T000755
CREATED:20251006T124854Z
LAST-MODIFIED:20251008T105435Z
UID:10001771-1760871600-1760889600@www.tag-der-restaurierung.de
SUMMARY:Europäischer Tag der Restaurierung im Bayerischen Nationalmuseum
DESCRIPTION:Führungen: \n12.00 Uhr\, Treffpunkt Foyer \nDer Blick durchs Mikroskop. Die Restaurierung von Hinterglasmalerei. \nWissenschaftliche Instrumente spielen heute eine entscheidende Rolle in der Restaurierungspraxis – oft erschließt sich erst mit dem Blick durchs Mikroskop der genaue Zustand der Kunstwerke. Diese Führung ermöglicht einen seltenen Blick ins Detail und nimmt Sie mit auf die Reise durch die Restaurierung stark geschädigter Hinterglasmalerei an einem Barometer/Thermometer und einer Hängeuhr. \nHans-Jörg Ranz\, Restaurator \n  \n  \n13.00–13.30 Uhr\, Treffpunkt Eingang Krippenausstellung \nSicher ist sicher! Eine neue Brandmeldeanlage für die Krippensammlung  \nEs war eine Mammutaufgabe\, die Krippensammlung mit ihren vielen Tausend Figuren und Zubehörteilen mit einer neuen Brandmeldeanlage auszustatten. Zwei Kurzführungen erläutern diese 2024 umgesetzte Aktion und gestatten zugleich seltene Blicke hinter die Kulissen dieses faszinierenden Ausstellungsbereiches. \nJohanna Kreil\, Dipl.-Rest. \n  \n  \n13.30 Uhr\, Treffpunkt Foyer \nUmgang mit den Risiken für die Kunst: Klima\, Licht und Schadstoffe im BNM \nDer Erhalt von Kunstwerken bedeutet unter anderem\, deren Alterung soweit wie möglich zu verzögern. Hierfür sollten die Umgebungsbedingungen bestimmte\, empfohlene Vorgaben erfüllen. \nAn ausgewählten Beispielen wird erläutert\, welche Maßnahmen hierfür im Bayerischen Nationalmuseum am und im Gebäude und Vitrinen umgesetzt wurden\, um die Risikofaktoren „Klima\, Licht und Schadstoffe“ in den Griff zu bekommen. \nMarcus Herdin\, Dipl.-Rest. \n  \n14.00 Uhr\, Treffpunkt Foyer \nHeute geöffnet! Außergewöhnliche Möbel enthüllen ihre Geheimnisse \nSchildpatt-\, Horn- und Metallfurniere – Möbel mit einem Dekor in Boulle-Technik (frühes 18. Jh.) waren Luxusprodukte und weisen eine besondere Materialvielfalt auf\, die bei der Restaurierung berücksichtigt werden muss. Naturwissenschaftliche Untersuchungen bilden dabei die Grundlage für das Restaurierungskonzept. Werfen Sie einen Blick auf die Ergebnisse eines Forschungsprojektes zur Restaurierung und Neuaufstellung dieser teils monumentalen Möbel in der Barocksammlung. \nRoswitha Schwarz\, Dipl.-Rest. \n  \n  \n15.00–15.30 Uhr\, Treffpunkt Eingang Krippenausstellung \nSicher ist sicher! Eine neue Brandmeldeanlage für die Krippensammlung  \nEs war eine Mammutaufgabe\, die Krippensammlung mit ihren vielen Tausend Figuren und Zubehörteilen mit einer neuen Brandmeldeanlage auszustatten. Zwei Kurzführungen erläutern diese 2024 umgesetzte Aktion und gestatten zugleich seltene Blicke hinter die Kulissen dieses faszinierenden Ausstellungsbereiches. \nJohanna Kreil\, Dipl.-Rest. \n  \n  \n16.00 Uhr\, Treffpunkt Foyer \nHeute geöffnet! Außergewöhnliche Möbel enthüllen ihre Geheimnisse \nEin prachtvoller Kabinettschrank aus Eger (um 1680) wurde im Rahmen einer Leihanfrage restauriert und nach der Ausleihe im Museum neu aufgestellt. Er ist mit überaus aufwendig gestalteten Reliefintarsien dekoriert. Schnitzen\, färben\, furnieren\, intarsieren\, ebonisieren\, punzieren\, gravieren\, vergolden\, bläuen\, bemalen\, bekleben – diese Vielzahl von Dekortechniken erforderte eine differenzierte Herangehensweise bei der Restaurierung. Die Recherche im Vorfeld ergab auch spannende Erkenntnisse zur Restaurierungsgeschichte des Möbels im Bayerischen Nationalmuseum. \nRoswitha Schwarz\, Dipl.-Rest. \n  \n  \nStationen: \n11.00–13.00 Uhr\, Saal 87 \nIn Form gebracht – Figurinen für historische Kostüme ganz individuell \nHistorische Gewänder wurden dem Träger oder der Trägerin früher direkt auf den Leib geschneidert. Möchte man diese Gewänder heutzutage ausstellen\, muss eine Kostümpuppe (Figurine) mit den individuellen Maßen der ehemaligen Trägerin oder des Trägers angefertigt werden. Die Herstellung einer Figurine ist daher äußerst aufwendig. Welche zahlreichen Schritte dafür notwendig sind und warum sich der Aufwand unbedingt lohnt\, wird Ihnen an dieser Station erläutert.  \nDavinia Gallego Monzonís\, M.A. \n  \n  \n11.00–13.00 Uhr\, Saal 25 \nGut behütet. Schützende Behältnisse für Depot und Leihverkehr \nUm die oft kleinen und besonders fragilen Objekte der volkskundlichen Sammlung im Depot und beim Leihverkehr zu schützen\, sind spezielle Behältnisse erforderlich. Die Restauratorinnen präsentieren solche Verpackungslösungen\, deren Anfertigung neben Materialkenntnissen und Fingerfertigkeit auch Ideenreichtum erfordert. \nJohanna Kreil\, Dipl.-Rest. \n  \n  \n13.00–15.00 Uhr\, Saal 87 \nIn Form gebracht – Figurinen für historische Kostüme ganz individuell \nHistorische Gewänder wurden dem Träger oder der Trägerin früher direkt auf den Leib geschneidert. Möchte man diese Gewänder heutzutage ausstellen\, muss eine Kostümpuppe (Figurine) mit den individuellen Maßen der ehemaligen Trägerin oder des Trägers angefertigt werden.  \n.. Die Herstellung einer Figurine ist daher äußerst aufwendig. Welche zahlreichen Schritte dafür notwendig sind und warum sich der Aufwand unbedingt lohnt\, wird Ihnen an dieser Station erläutert.  \nDagmar Drinkler\, Dipl.-Rest \n  \n  \n11.00–13.00 Uhr; 13.30–15.30 Uhr\, Saal 46 \nEine zündende Idee! – Das Gerzabeck’sche Tischfeuerzeug (1822) \nJe nach Geschmack und Geldbeutel konnte das faszinierende Gerät in verschiedenen Ausführungen geliefert werden. Das verblüffende Innenleben blieb jedoch immer gleich: Ein gläsernes Reaktionsgefäß erzeugt Wasserstoff als Betriebsgas. Die Mechanik im Sockel sorgt für elektrostatische Ladung\, die über Leitungen zu einem Auslassventil geführt wird und das Gas dort mit einem Funken entzündet. Die verwendeten Chemikalien und die langjährige Deponierung haben zu „interessanten“ Korrosionsprozessen geführt. Mechanik\, Korrosionsprozesse und entsprechende Restaurierungskonzepte werden Ihnen an dieser Station vorgestellt.  \nJoachim Kreutner\, Dipl.-Rest. \n  \n  \n13.00–15.00 Uhr\, Saal 25 \nGut behütet. Schützende Behältnisse für Depot und Leihverkehr \nUm die oft kleinen und besonders fragilen Objekte der volkskundlichen Sammlung im Depot und beim Leihverkehr zu schützen\, sind spezielle Behältnisse erforderlich. Die Restauratorinnen präsentieren solche Verpackungslösungen\, deren Anfertigung neben Materialkenntnissen und Fingerfertigkeit auch Ideenreichtum erfordert. \nPetra Seemann\, M.A. \n  \n  \n11.00–13.00 Uhr; 13.30–15.30 Uhr\, Saal 52 \nDie Restaurierung der „neuägyptischen“ Urania-Figurenuhr um 1810\nDie Restaurierungsstudentin Anna Dohnal (abk Stuttgart) stellt Ihnen ihr Masterprojekt am Bayerischen Nationalmuseum vor.  \nAnna Dohnal\, Masterstudentin abk Stuttgart \n  \n  \n11.00–13.00 Uhr\, Saal 17 \nPrävention hinter den Kulissen: Was ist IPM und wie schützt es Exponate und Sammlungsbestand? \nObjekte aus organischen Materialien wie Holz\, Textil oder Papier sind besonders anfällig für Schädlinge wie Holzwürmer\, Motten und Papierfischchen. Ein Befall kann ein Kunstwerk stark beschädigen oder sogar zerstören. Beim Integrierten Schädlingsmanagement wird die Wahrscheinlichkeit eines Schädlingsbefalls durch gezielte Maßnahmen reduziert. Um welche Maßnahmen handelt es sich und wie wird am besten vorgegangen? Diese und weitere Fragen werden bei dieser Präsentation beantwortet \nSeraina Schulze\, Dipl.-Rest. \n  \n  \n13.00–15.00 Uhr\, Saal 15 \nKunsttechnologie und Restaurierung am Beispiel eines spätgotischen Baldachinaltars  \nJüngste kunsttechnologische Untersuchungen konnten die bisher angezweifelte Zugehörigkeit einer spätmittelalterlichen Madonnenskulptur zu dem um 1440 geschaffenen Baldachinaltar klären. Zudem erfahren Sie Spannendes zur Erwerbungs- und Restaurierungsgeschichte des Baldachinaltares. Weiterhin werden verschiedene Konzepte der Vorgehensweise bei der restauratorischen Bearbeitung des Kunstwerks und das Ergebnis der jüngst abgeschlossenen Restaurierung erläutert und präsentiert.  \nStefan Schuster\, Restaurator \n  \nVeranstaltungsort: Bayerisches Nationalmuseum\, Prinzregentenstr. 3\, München
URL:https://www.tag-der-restaurierung.de/veranstaltung/europaeischer-tag-der-restaurierung-im-bayerischen-nationalmuseum/
LOCATION:Bayerisches Nationalmuseum\, Prinzregentenstr. 3\, München\, Bayern\, 80538\, Germany
CATEGORIES:Führung,Mitmachen,Vorführung
ATTACH;FMTTYPE=image/jpeg:https://www.tag-der-restaurierung.de/wp-content/uploads/2025/10/PXL_20250703_091013937.jpg
ORGANIZER;CN="Bayerisches Nationalmuseum%2C Abteilung Konservierung-Restaurierung":MAILTO:restaurierung@bayerisches-nationalmuseum.de
GEO:48.1432376;11.5911364
X-APPLE-STRUCTURED-LOCATION;VALUE=URI;X-ADDRESS=Bayerisches Nationalmuseum Prinzregentenstr. 3 München Bayern 80538 Germany;X-APPLE-RADIUS=500;X-TITLE=Prinzregentenstr. 3:geo:11.5911364,48.1432376
END:VEVENT
END:VCALENDAR